BEGIN:VCALENDAR
VERSION:2.0
PRODID:-//Léargas - Insight through exchange - ECPv4.5.13//NONSGML v1.0//EN
CALSCALE:GREGORIAN
METHOD:PUBLISH
X-WR-CALNAME:Léargas - Insight through exchange
X-ORIGINAL-URL:https://www.leargas.ie
X-WR-CALDESC:Events for Léargas - Insight through exchange
BEGIN:VEVENT
DTSTART;TZID=UTC+0:20150427T093000
DTEND;TZID=UTC+0:20150427T160000
DTSTAMP:20171105T054718
CREATED:20150416T175417Z
LAST-MODIFIED:20150416T175646Z
UID:2241-1430127000-1430150400@www.leargas.ie
SUMMARY:European Youth Week 2015 - "Erasmus+ Engage\, Create\, Share"  Training Course
DESCRIPTION:To mark European Youth Week 2015\, we have organised a one day training course for young people and youth workers who are looking to become involved or are already involved in Erasmus+.  This training course provides an overview of the possibilities within the Erasmus + programme to access funds to develop international activities that enhance youth participation as well as creative and practical tools to share results. \n\n\n\n\n\n\n\nFor further information and to apply visit the SALTO site here\n\nDeadline for applications: 17 April 2015\n\n\n\n\n\n\n\n
URL:https://www.leargas.ie/calendar/european-youth-week-2015-erasmus-engage-create-share-training-course/
LOCATION:Aungier Street\, Dublin 2\, Ireland
CATEGORIES:Erasmus+
ATTACH;FMTTYPE=image/jpeg:https://www.leargas.ie/wp-content/uploads/2015/04/Youth-Week-Training.jpg
END:VEVENT
END:VCALENDAR