BEGIN:VCALENDAR
VERSION:2.0
PRODID:-//Léargas - Insight through exchange - ECPv4.5.13//NONSGML v1.0//EN
CALSCALE:GREGORIAN
METHOD:PUBLISH
X-WR-CALNAME:Léargas - Insight through exchange
X-ORIGINAL-URL:https://www.leargas.ie
X-WR-CALDESC:Events for Léargas - Insight through exchange
BEGIN:VEVENT
DTSTART;TZID=UTC+0:20170929T130000
DTEND;TZID=UTC+0:20170929T160000
DTSTAMP:20171027T224437
CREATED:20170301T112002Z
LAST-MODIFIED:20170929T092058Z
UID:6797-1506690000-1506700800@www.leargas.ie
SUMMARY:European Language Label Awards Ceremony
DESCRIPTION:Farmleigh\, Phoenix Park\, Dublin\nPrize ceremony for winners of the 2017 European Language Label\, in both project and Language Teacher of the Year categories. Please note this event is by invitation only. \n
URL:https://www.leargas.ie/calendar/european-language-label-awards-ceremony/
CATEGORIES:Languages
ATTACH;FMTTYPE=image/png:https://www.leargas.ie/wp-content/uploads/2017/03/ELL_BlueBackgroundandlogo.png
END:VEVENT
END:VCALENDAR